BEGIN:VCALENDAR
VERSION:2.0
PRODID:-//ChamberMaster//Event Calendar 2.0//EN
METHOD:PUBLISH
X-PUBLISHED-TTL:P3D
REFRESH-INTERVAL:P3D
CALSCALE:GREGORIAN
BEGIN:VEVENT
DTSTART:20180404T223000Z
DTEND:20180405T010000Z
X-MICROSOFT-CDO-ALLDAYEVENT:FALSE
SUMMARY:Youth of the Year & Community Awards Dinner
DESCRIPTION:Please join us for this night celebrating the rising young leaders of the Souhegan Valley - teens who are inspired to lead and succeed - as well as some special adults in the community.? Youth of the Year is a year-round character and leadership program that recognizes Boys & Girls Club of Souhegan Valley members who demonstrate academic achievement\, leadership skills and service to the community. Aged 14-18\, these teens are working hard\, investing in themselves and have their sights set on achieving a GREAT FUTURE. ? ?Community Awards?: Man or Woman of the Year\; Business of the Year\; Volunteer of the Year\; President's Award?\; Lew Dokmo Champion of Youth Award? and the Community Hero Award?
X-ALT-DESC;FMTTYPE=text/html:Please join us for this night celebrating the rising young leaders of the Souhegan Valley - teens who are inspired to lead and succeed - as well as some special adults in the community.? Youth of the Year is a year-round character and leadership program that recognizes Boys &amp\; Girls Club of Souhegan Valley members who demonstrate academic achievement\, leadership skills and service to the community. Aged 14-18\, these teens are working hard\, investing in themselves and have their sights set on achieving a GREAT FUTURE. ? ?Community Awards?: Man or Woman of the Year\; Business of the Year\; Volunteer of the Year\; President&rsquo\;s Award?\; Lew Dokmo Champion of Youth Award? and the Community Hero Award?
LOCATION:LaBelle Winery\, 354 State Route 101\, Amherst\, NH
UID:e.2735.3506
SEQUENCE:3
DTSTAMP:20260419T194045Z
URL:http://members.gmsvcc.org/events/details/youth-of-the-year-community-awards-dinner-3506
END:VEVENT

END:VCALENDAR
