BEGIN:VCALENDAR
VERSION:2.0
PRODID:-//ChamberMaster//Event Calendar 2.0//EN
METHOD:PUBLISH
X-PUBLISHED-TTL:P3D
REFRESH-INTERVAL:P3D
CALSCALE:GREGORIAN
BEGIN:VEVENT
DTSTART:20170918T123000Z
DTEND:20170918T143000Z
X-MICROSOFT-CDO-ALLDAYEVENT:FALSE
SUMMARY:Workplace Violence Response: Part 2 of Active Shooter in the Workplace
DESCRIPTION:This presentation is a follow-up to the Community Response to an Active Shooter overview previously given at the Souhegan Chamber of Commerce as part of our Build Your Business Educational series.  Presented by Amherst PD  officers\, Mike Knox\, and John Smith\,  this block of information will include a review of "best practices" for instances of ultra-violence and options to consider in the workplace.     Participants will then be exposed to medical interventions which are available and will be provided with an opportunity to participate in a "Tabletop" exercise resolving a situation which could happen in a business location in the year 2017.
X-ALT-DESC;FMTTYPE=text/html:This presentation is a follow-up to the Community Response to an Active Shooter overview previously given at the Souhegan Chamber of Commerce as part of our Build Your Business Educational series. &nbsp\;Presented by Amherst PD &nbsp\;officers\, Mike Knox\, and John Smith\, &nbsp\;this block of information will include a review of &ldquo\;best practices&rdquo\; for instances of ultra-violence and options to consider in the workplace.&nbsp\;&nbsp\;&nbsp\;&nbsp\; Participants will then be exposed to medical interventions which are available and will be provided with an opportunity to participate in a &ldquo\;Tabletop&rdquo\; exercise resolving a situation which could happen in a business location in the year 2017.&nbsp\;&nbsp\;
LOCATION:Souhegan Valley Chamber of Commerce 69 Route 101A Amherst\, NH 03031
UID:e.2735.2836
SEQUENCE:3
DTSTAMP:20260420T060348Z
URL:http://members.gmsvcc.org/events/details/workplace-violence-response-part-2-of-active-shooter-in-the-workplace-2836
END:VEVENT

END:VCALENDAR
