BEGIN:VCALENDAR
VERSION:2.0
PRODID:-//ChamberMaster//Event Calendar 2.0//EN
METHOD:PUBLISH
X-PUBLISHED-TTL:P3D
REFRESH-INTERVAL:P3D
CALSCALE:GREGORIAN
BEGIN:VEVENT
DTSTART:20160922T213000Z
DTEND:20160922T233000Z
X-MICROSOFT-CDO-ALLDAYEVENT:FALSE
SUMMARY:Turnstone Corporation Ribbon Cutting & Open House
DESCRIPTION:Celebrate and welcome Turnstone Corporation to their new home!
X-ALT-DESC;FMTTYPE=text/html:Celebrate and welcome Turnstone Corporation to their new home!
LOCATION:479 Nashua Street\, Milford NH 030355
UID:e.2735.582
SEQUENCE:3
DTSTAMP:20260421T002231Z
URL:http://members.gmsvcc.org/events/details/turnstone-corporation-ribbon-cutting-open-house-09-22-2016-582
END:VEVENT

END:VCALENDAR
