BEGIN:VCALENDAR
VERSION:2.0
PRODID:-//ChamberMaster//Event Calendar 2.0//EN
METHOD:PUBLISH
X-PUBLISHED-TTL:P3D
REFRESH-INTERVAL:P3D
CALSCALE:GREGORIAN
BEGIN:VEVENT
DTSTART:20170923T213000Z
DTEND:20170924T013000Z
X-MICROSOFT-CDO-ALLDAYEVENT:FALSE
SUMMARY:Touchstone Farm Fall Fundraiser
DESCRIPTION:Join us for Touchstone Farm Denim & Diamonds Fundraiser.\n\nDinner\, Dancing\, Live & Silent Auction\, Friends\, Fun and much more.
X-ALT-DESC;FMTTYPE=text/html:<p>Join us for Touchstone Farm Denim &amp\; Diamonds Fundraiser.<br />\nDinner\, Dancing\, Live &amp\; Silent Auction\, Friends\, Fun and much more.</p>\n
LOCATION:Touchstone Farm 13 Pony Farm Lane Temple NH
UID:e.2735.2831
SEQUENCE:3
DTSTAMP:20260420T060134Z
URL:http://members.gmsvcc.org/events/details/touchstone-farm-fall-fundraiser-2831
END:VEVENT

END:VCALENDAR
