BEGIN:VCALENDAR
VERSION:2.0
PRODID:-//ChamberMaster//Event Calendar 2.0//EN
METHOD:PUBLISH
X-PUBLISHED-TTL:P3D
REFRESH-INTERVAL:P3D
CALSCALE:GREGORIAN
BEGIN:VEVENT
DTSTART:20171108T120000Z
DTEND:20171108T133000Z
X-MICROSOFT-CDO-ALLDAYEVENT:FALSE
SUMMARY:Toastmasters Weekly Meeting
DESCRIPTION:Wednesdays: Weekly Meeting- come check us out!
X-ALT-DESC;FMTTYPE=text/html:Wednesdays: Weekly Meeting- come check us out!
LOCATION:SV Chamber office 69 Route 101A Amherst NH
UID:e.2735.3049
SEQUENCE:3
DTSTAMP:20260420T030446Z
URL:http://members.gmsvcc.org/events/details/toastmasters-weekly-meeting-11-08-2017-3049
END:VEVENT

END:VCALENDAR
