BEGIN:VCALENDAR
VERSION:2.0
PRODID:-//ChamberMaster//Event Calendar 2.0//EN
METHOD:PUBLISH
X-PUBLISHED-TTL:P3D
REFRESH-INTERVAL:P3D
CALSCALE:GREGORIAN
BEGIN:VEVENT
DTSTART:20170830T203000Z
DTEND:20170830T223000Z
X-MICROSOFT-CDO-ALLDAYEVENT:FALSE
SUMMARY:The Ridge at Eastern Trail Ribbon Cutting/Open House
DESCRIPTION:Ribbon Cutting/Open House. Apartment Tours will be given\n\nEveryone is invited for refreshments\, snacks\, tours\, etc.
X-ALT-DESC;FMTTYPE=text/html:Ribbon Cutting/Open House.&nbsp\;Apartment Tours will be given<br />\nEveryone is invited for refreshments\, snacks\, tours\, etc.<br />\n&nbsp\;
LOCATION:The Ridge at Eastern Trails is located at 10 East Ridge Drive in Milford\, NH. The GPS directions are 29 Capron Rd\, Milford\, NH
UID:e.2735.2826
SEQUENCE:3
DTSTAMP:20260420T075942Z
URL:http://members.gmsvcc.org/events/details/the-ridge-at-eastern-trail-ribbon-cutting-open-house-2826
END:VEVENT

END:VCALENDAR
