BEGIN:VCALENDAR
VERSION:2.0
PRODID:-//ChamberMaster//Event Calendar 2.0//EN
METHOD:PUBLISH
X-PUBLISHED-TTL:P3D
REFRESH-INTERVAL:P3D
CALSCALE:GREGORIAN
BEGIN:VEVENT
DTSTART:20171019T124500Z
DTEND:20171019T140000Z
X-MICROSOFT-CDO-ALLDAYEVENT:FALSE
SUMMARY:The Power of the Inbox - Tips and Tricks for Successful Email Marketing
DESCRIPTION:Join marketing expert\, Joanne Randall\, owner of Sprout for Business\, Concord\, NH.  Joanne has over twenty-five years of experience in the marketing field\, and she currently manages operations and training for Sprout.\n\nWorkshop Description:\nWhat impression you leave when customers and prospects see you in their email inbox? \n\nAre they following your call-to-action?\n\n \n\nThis powerful seminar takes you step-by-step through the keys to effective email marketing:\n\n\n	What it really is (and isn't)\n	What it can do for your business\n	And the five easy steps you must take to harness the power of the inbox!\n	Grow a healthy list \n	Create great content \n	Customize a beautiful\, mobile-friendly template that matches your brand\n	How to get your emails opened \n	Tracking your results\n\n \n\nFrom revealing why regular email doesn't work\, to insider tips and techniques like automated list building tools and the design elements that work (and those that don't!)\, this seminar will give you the keys to the most effective marketing you can do: email marketing. Join us!
X-ALT-DESC;FMTTYPE=text/html:<h1 class="page-header" style="box-sizing: border-box\; transition: color 0.25s\, border 0.25s\, background-color 0.25s\; font-size: 36px\; margin: 0px 0px 20px\; font-family: &quot\;Source Sans Pro&quot\;\, Arial\, sans-serif\; font-weight: 500\; line-height: 1.1\; color: rgb(0\, 53\, 145)\; padding-bottom: 9px\; border-bottom: 0px\; background-color: rgb(255\, 255\, 255)\; -webkit-font-smoothing: antialiased !important\;"><span style="font-size:14px\;"><span style="font-family:times new roman\;"><span style="color: rgb(51\, 51\, 51)\; background-color: rgb(255\, 255\, 255)\;">Join marketing expert\, Joanne Randall\, owner of Sprout for Business\, Concord\, NH.&nbsp\; Joanne&nbsp\;has over twenty-five years of experience in the marketing field\, and she currently manages operations and training for Sprout.</span></span></span></h1>\n\n<h1 class="page-header" style="box-sizing: border-box\; transition: color 0.25s\, border 0.25s\, background-color 0.25s\; font-size: 36px\; margin: 0px 0px 20px\; font-family: &quot\;Source Sans Pro&quot\;\, Arial\, sans-serif\; font-weight: 500\; line-height: 1.1\; color: rgb(0\, 53\, 145)\; padding-bottom: 9px\; border-bottom: 0px\; background-color: rgb(255\, 255\, 255)\; -webkit-font-smoothing: antialiased !important\;"><strong style="color: rgb(51\, 51\, 51)\; font-family: sans-serif\, Arial\, Verdana\, &quot\;Trebuchet MS&quot\;\; font-size: 13px\;"><span style="font-family:verdana\,sans-serif\;">Workshop Description:</span></strong></h1>\n<span style="font-family:verdana\,sans-serif\;">What impression you leave when customers and prospects see you in their email inbox?&nbsp\;</span><br />\n<span style="font-family:verdana\,sans-serif\;">Are they following your call-to-action?</span><br />\n&nbsp\;<br />\n<span style="font-family:verdana\,sans-serif\;">This powerful seminar takes you step-by-step through the keys to effective email marketing:</span>\n\n<ul>\n	<li style="margin-left:0in\;">What it really is (and isn&rsquo\;t)</li>\n	<li style="margin-left:0in\;">What it can do for your business</li>\n	<li style="margin-left:0in\;">And the five easy steps you must take to harness the power of the inbox!</li>\n	<li style="margin-left:0in\;">Grow a healthy list&nbsp\;</li>\n	<li style="margin-left:0in\;">Create great content&nbsp\;</li>\n	<li style="margin-left:0in\;">Customize a beautiful\, mobile-friendly template that matches your brand</li>\n	<li style="margin-left:0in\;">How to get your emails opened&nbsp\;</li>\n	<li style="margin-left:0in\;">Tracking your results</li>\n</ul>\n&nbsp\;<br />\n<span style="font-family:verdana\,sans-serif\;">From revealing why regular email doesn&#39\;t work\, to insider tips and techniques like automated list building tools and the design elements that work (and those that don&#39\;t!)\, this seminar will give you the keys to the most effective marketing you can do: email marketing. Join us!</span><br />\n&nbsp\;
LOCATION:Souhegan Valley Chamber of Commerce 69 Route 101A Amherst\, NH 03031
UID:e.2735.2837
SEQUENCE:3
DTSTAMP:20260420T042129Z
URL:http://members.gmsvcc.org/events/details/the-power-of-the-inbox-tips-and-tricks-for-successful-email-marketing-2837
END:VEVENT

END:VCALENDAR
