BEGIN:VCALENDAR
VERSION:2.0
PRODID:-//ChamberMaster//Event Calendar 2.0//EN
METHOD:PUBLISH
X-PUBLISHED-TTL:P3D
REFRESH-INTERVAL:P3D
CALSCALE:GREGORIAN
BEGIN:VEVENT
DTSTART:20170406T143000Z
DTEND:20170406T153000Z
X-MICROSOFT-CDO-ALLDAYEVENT:FALSE
SUMMARY:The Art of Growing Food
DESCRIPTION:The Amherst Garden Club welcomes award-winning food and garden writer Ellen Ecker Ogden. Join us for her presentation\, "The Art of Growing Food\," and learn how to grow an edible garden with an eye towards beauty\, easy care\, and pleasure.
X-ALT-DESC;FMTTYPE=text/html:The Amherst Garden Club welcomes award-winning food and garden writer Ellen Ecker Ogden. Join us for her presentation\, &ldquo\;The Art of Growing Food\,&rdquo\; and learn how to grow an edible garden with an eye towards beauty\, easy care\, and pleasure.
LOCATION:Messiah Lutheran Church\, 303 Route 101\, Amherst
UID:e.2735.791
SEQUENCE:3
DTSTAMP:20260420T154336Z
URL:http://members.gmsvcc.org/events/details/the-art-of-growing-food-791
END:VEVENT

END:VCALENDAR
