BEGIN:VCALENDAR
VERSION:2.0
PRODID:-//ChamberMaster//Event Calendar 2.0//EN
METHOD:PUBLISH
X-PUBLISHED-TTL:P3D
REFRESH-INTERVAL:P3D
CALSCALE:GREGORIAN
BEGIN:VEVENT
DTSTART:20170907T210000Z
DTEND:20170907T230000Z
X-MICROSOFT-CDO-ALLDAYEVENT:FALSE
SUMMARY:TD Bank Open House/Ribbon Cutting
DESCRIPTION:Come celebrate the newly renovated TD Bank at a Ribbon Cutting and Open House Reception
X-ALT-DESC;FMTTYPE=text/html:Come celebrate the newly renovated TD Bank at a Ribbon Cutting and Open House Reception&nbsp\;<br />\n&nbsp\;
LOCATION:57 South Street Milford\, NH 03055
UID:e.2735.2827
SEQUENCE:3
DTSTAMP:20260420T060513Z
URL:http://members.gmsvcc.org/events/details/td-bank-open-house-ribbon-cutting-2827
END:VEVENT

END:VCALENDAR
