BEGIN:VCALENDAR
VERSION:2.0
PRODID:-//ChamberMaster//Event Calendar 2.0//EN
METHOD:PUBLISH
X-PUBLISHED-TTL:P3D
REFRESH-INTERVAL:P3D
CALSCALE:GREGORIAN
BEGIN:VEVENT
DTSTART;VALUE=DATE:20161024
DTEND;VALUE=DATE:20161025
TRANSP:TRANSPARENT
X-MICROSOFT-CDO-ALLDAYEVENT:TRUE
SUMMARY:Synergy Acupuncture & Integrative Wellness Solutions Open House
DESCRIPTION:Stop by Synergy Acupuncture & Integrative Wellness to learn more about how acupuncture and traditional Oriental medicine can help you. \nNow You Can SEE Where Your Energetic Imbalance Are In Your Body With Modern Technology Applied To An Ancient Medicine. Please Watch This Video To Learn More About Acupuncture And How Acugraph Is Used To Detect Imbalances In Your Meridians.\n\n  Also\, When You Come In For A FREE Acupuncture Mini-Treatment\, You Will Also Receive An Acugraph Printout Identifying Your Imbalances.
X-ALT-DESC;FMTTYPE=text/html:Stop by Synergy Acupuncture &amp\; Integrative Wellness&nbsp\;to learn more about how acupuncture and traditional Oriental medicine can help you.&nbsp\;\n<h2 style="margin: 0.3em 0px\; padding: 0px\; text-transform: capitalize\; text-shadow: rgb(255\, 255\, 255) 1px 1px 0px\; line-height: 1.3em\; font-family: &quot\;Trebuchet MS&quot\;\, Helvetica\, sans-serif\; color: rgb(156\, 214\, 115)\; background-color: rgb(255\, 255\, 255)\;"><span style="color:#000000\;"><span style="font-size:12px\;"><span style="font-family:arial\;">Now You Can SEE Where Your Energetic Imbalance Are In Your Body With Modern Technology Applied To An Ancient Medicine. Please Watch This Video To Learn More About Acupuncture And How Acugraph Is Used To Detect Imbalances In Your Meridians.</span></span></span></h2>\n\n<h2 style="margin: 0.3em 0px\; padding: 0px\; text-transform: capitalize\; text-shadow: rgb(255\, 255\, 255) 1px 1px 0px\; line-height: 1.3em\; font-family: &quot\;Trebuchet MS&quot\;\, Helvetica\, sans-serif\; color: rgb(156\, 214\, 115)\; background-color: rgb(255\, 255\, 255)\;"><span style="color:#000000\;"><span style="font-size:12px\;"><span style="font-family:arial\;">&nbsp\; Also\, When You Come In For A FREE Acupuncture Mini-Treatment\, You Will Also Receive An Acugraph Printout Identifying Your Imbalances.</span></span></span></h2>\n\n<h2 style="margin: 0.3em 0px\; padding: 0px\; font-weight: 700\; text-transform: capitalize\; text-shadow: rgb(255\, 255\, 255) 1px 1px 0px\; line-height: 1.3em\; font-family: &quot\;Trebuchet MS&quot\;\, Helvetica\, sans-serif\; color: rgb(156\, 214\, 115)\;">&nbsp\;</h2>\n
LOCATION:89 Route 101A Amherst NH
UID:e.2735.602
SEQUENCE:3
DTSTAMP:20260420T225615Z
URL:http://members.gmsvcc.org/events/details/synergy-acupuncture-integrative-wellness-solutions-open-house-602
END:VEVENT

END:VCALENDAR
