BEGIN:VCALENDAR
VERSION:2.0
PRODID:-//ChamberMaster//Event Calendar 2.0//EN
METHOD:PUBLISH
X-PUBLISHED-TTL:P3D
REFRESH-INTERVAL:P3D
CALSCALE:GREGORIAN
BEGIN:VEVENT
DTSTART:20171019T203000Z
DTEND:20171019T220000Z
X-MICROSOFT-CDO-ALLDAYEVENT:FALSE
SUMMARY:SV Boys and Girls Club Response to the Opioid Crisis
DESCRIPTION:Join us from 4:30   6:00 pm as we introduce the Children's Resiliency Retreat Project and other new programming and welcome the new   Executive Director\, Mike Goodwin\, and Director of Prevention Services\, Monica Gallant.  Registration is requested at http://conta.cc/2yT75cj
X-ALT-DESC;FMTTYPE=text/html:<span style="color: rgb(51\, 51\, 51)\; font-family: Tahoma\, Geneva\, sans-serif\; font-size: 12px\; background-color: rgb(255\, 255\, 255)\;">Join us from 4:30 &ndash\; 6:00 pm as we introduce the Children&rsquo\;s Resiliency Retreat Project and other new programming and welcome the new&nbsp\;&nbsp\; Executive Director\, Mike Goodwin\, and Director of Prevention Services\, Monica Gallant.&nbsp\; Registration is requested at&nbsp\;</span><a href="http://conta.cc/2yT75cj" style="font-family: Tahoma\, Geneva\, sans-serif\; font-size: 12px\; background-color: rgb(255\, 255\, 255)\;" target="_blank" title="Click to Register.">http://conta.cc/2yT75cj</a>
LOCATION:SV Boys and Girls Club 56 Mont Vernon St Milford\,NH
UID:e.2735.3045
SEQUENCE:3
DTSTAMP:20260420T042314Z
URL:http://members.gmsvcc.org/events/details/sv-boys-and-girls-club-response-to-the-opioid-crisis-3045
END:VEVENT

END:VCALENDAR
