BEGIN:VCALENDAR
VERSION:2.0
PRODID:-//ChamberMaster//Event Calendar 2.0//EN
METHOD:PUBLISH
X-PUBLISHED-TTL:P3D
REFRESH-INTERVAL:P3D
CALSCALE:GREGORIAN
BEGIN:VEVENT
DTSTART:20180825T140000Z
DTEND:20180902T200000Z
X-MICROSOFT-CDO-ALLDAYEVENT:FALSE
SUMMARY:Summer Sale at Pastiche Boutique\, LLC
DESCRIPTION:In celebration of a wonderful Summer and to prepare us all for the last hurrah of Labor Day Weekend & going Back to School\, we will be having a special End of Summer Sale Event lasting an entire week at Pastiche Boutique\, LLC! \n\nCome on by from August 25th through September 2nd to check out the Sidewalk Sale along with many items inside the shop to receive up to 60% Off Select Summer Apparel\, Accessories\, Home Decor\, & Gifts!!!
X-ALT-DESC;FMTTYPE=text/html:<p>In celebration of a wonderful Summer and to prepare us all for the last hurrah of Labor Day Weekend &amp\; going Back to School\, we will be having a special End of Summer Sale Event lasting an entire week at Pastiche Boutique\, LLC!&nbsp\;</p>\n\n<p>Come on by from August 25th through September 2nd to check out the Sidewalk Sale along with many items inside the shop to receive up to 60% Off Select Summer Apparel\, Accessories\, Home Decor\, &amp\; Gifts!!!</p>\n
LOCATION:Pastiche Boutique\, LLC 263 Union Square Milford\, NH 03055
UID:e.2735.3722
SEQUENCE:3
DTSTAMP:20260419T122054Z
URL:http://members.gmsvcc.org/events/details/summer-sale-at-pastiche-boutique-llc-3722
END:VEVENT

END:VCALENDAR
