BEGIN:VCALENDAR
VERSION:2.0
PRODID:-//ChamberMaster//Event Calendar 2.0//EN
METHOD:PUBLISH
X-PUBLISHED-TTL:P3D
REFRESH-INTERVAL:P3D
CALSCALE:GREGORIAN
BEGIN:VEVENT
DTSTART:20161027T230000Z
DTEND:20161028T000000Z
X-MICROSOFT-CDO-ALLDAYEVENT:FALSE
SUMMARY:Steinbeck: The Man and the Writer
DESCRIPTION:Jay Parini\, biographer of John Steinbeck\, will give a talk on John Steinbeck\, his life and work\, as the Keynote and final event of the region's NEA Big Read. Join us at St. Anselm College at the Dana Center\, Room 1 D\, for this special event. Free and all are welcome.
X-ALT-DESC;FMTTYPE=text/html:Jay Parini\, biographer of John Steinbeck\, will give a talk on John Steinbeck\, his life and work\, as the Keynote and final event of the region&#39\;s NEA Big Read. Join us at St. Anselm College at the Dana Center\, Room 1 D\, for this special event. Free and all are welcome.
LOCATION:St. Anselm College Dana Center\, Room 1 D
UID:e.2735.612
SEQUENCE:3
DTSTAMP:20260421T002834Z
URL:http://members.gmsvcc.org/events/details/steinbeck-the-man-and-the-writer-612
END:VEVENT

END:VCALENDAR
