BEGIN:VCALENDAR
VERSION:2.0
PRODID:-//ChamberMaster//Event Calendar 2.0//EN
METHOD:PUBLISH
X-PUBLISHED-TTL:P3D
REFRESH-INTERVAL:P3D
CALSCALE:GREGORIAN
BEGIN:VEVENT
DTSTART:20161105T140000Z
DTEND:20161105T190000Z
X-MICROSOFT-CDO-ALLDAYEVENT:FALSE
SUMMARY:Southern NH Expo!
DESCRIPTION:The Southern NH Expo showcases the best of the region's businesses and services. From restaurants and food producers sampling their signature dishes and products to products and services for both home and business. Come to the Expo to meet the businesses that you support face to face\, from your home heating suppliers to your insurance agent and favorite place for dinner!\n\n\n\nNow taking booth reservations! (click to download) Reserve before September 1 to save $$$.
X-ALT-DESC;FMTTYPE=text/html:<span style="color: rgb(84\, 99\, 140)\; font-family: Tahoma\, Geneva\, sans-serif\; font-size: 16px\; line-height: 19.2px\; text-align: justify\;">The Southern NH Expo showcases the best of the region&rsquo\;s businesses and services. From restaurants and food producers sampling their signature dishes and products to products and services for both home and business. Come to the Expo to meet the businesses that you support face to face\, from your home heating suppliers to your insurance agent and favorite place for dinner!</span><br />\n<br />\n<span style="color:#FF0000\;"><span style="font-family: Tahoma\, Geneva\, sans-serif\; font-size: 16px\; line-height: 19.2px\; text-align: justify\;"><a href="https://chambermaster.blob.core.windows.net/userfiles/UserFiles/chambers/2735/File/SNH_Expo_2016_Registration.pdf">Now taking booth reservations!</a>&nbsp\;(click to download)</span></span><span style="color: rgb(84\, 99\, 140)\; font-family: Tahoma\, Geneva\, sans-serif\; font-size: 16px\; line-height: 19.2px\; text-align: justify\;"> Reserve before September 1 to save $$$.</span>
LOCATION:The Hampshire Dome\, 50 Emerson Road\, Milford
UID:e.2735.422
SEQUENCE:3
DTSTAMP:20260420T213054Z
URL:http://members.gmsvcc.org/events/details/southern-nh-expo-11-05-2016-422
END:VEVENT

END:VCALENDAR
