BEGIN:VCALENDAR
VERSION:2.0
PRODID:-//ChamberMaster//Event Calendar 2.0//EN
METHOD:PUBLISH
X-PUBLISHED-TTL:P3D
REFRESH-INTERVAL:P3D
CALSCALE:GREGORIAN
BEGIN:VEVENT
DTSTART:20170513T140000Z
DTEND:20170513T180000Z
X-MICROSOFT-CDO-ALLDAYEVENT:FALSE
SUMMARY:Souhegan Valley Health & Wellness Fair
DESCRIPTION:Learn how to get healthy and feel better by visiting the Souhegan Valley Health & Wellness Fair.  The Fair will feature free health screenings for all ages\, including vision\, diabetes\, women's health and dental. There will also be interactive booths\, demonstrations of various fitness techniques\, family activities\, and safety checks for children. Activities Include:\n\n	Teddy Bear Clinic! Children\, bring your favorite stuffed animal or doll along with you for a wellness check-up! Each of St. Joseph Hospital's tables will be prepared to give your furry friends a fun and educational check-up covering topics ranging from nutrition\, first aid\, exercise and more! Upon leaving our Teddy Bear Clinic\, be sure to stop by our Community Health Education table where the animals will receive a Certificate of Health!\n	Bike & Helmet safety check by the Milford Police Department\n	The American Red Cross Mobile Donation Unit will be on site accepting life-saving blood donations. \n	FREE health screenings and dental checks.
X-ALT-DESC;FMTTYPE=text/html:Learn how to get healthy and feel better by visiting the Souhegan Valley Health &amp\; Wellness Fair. &nbsp\;The Fair will feature free health screenings for all ages\, including vision\, diabetes\, women&rsquo\;s health and dental. There will also be interactive booths\, demonstrations of various fitness techniques\, family activities\, and safety checks for children. Activities Include:\n<ul>\n	<li>Teddy Bear Clinic! Children\, bring your favorite stuffed animal or doll along with you for a wellness check-up! Each of St. Joseph Hospital&rsquo\;s tables will be prepared to give your furry friends a fun and educational check-up covering topics ranging from nutrition\, first aid\, exercise and more! Upon leaving our Teddy Bear Clinic\, be sure to stop by our Community Health Education table where the animals will receive a Certificate of Health!</li>\n	<li>Bike &amp\; Helmet safety check by the Milford Police Department</li>\n	<li>The American Red Cross Mobile Donation Unit will be on site accepting life-saving blood donations.&nbsp\;</li>\n	<li>FREE health screenings and dental checks.</li>\n</ul>\n<br />\n&nbsp\;<br />\n<br />\n&nbsp\;<br />\n&nbsp\;
LOCATION:Located at the Boys & Girls Club of the Souhegan Valley 56 Mont Vernon Road Milford NH 03055
UID:e.2735.636
SEQUENCE:3
DTSTAMP:20260420T123459Z
URL:http://members.gmsvcc.org/events/details/souhegan-valley-health-wellness-fair-636
END:VEVENT

END:VCALENDAR
