BEGIN:VCALENDAR
VERSION:2.0
PRODID:-//ChamberMaster//Event Calendar 2.0//EN
METHOD:PUBLISH
X-PUBLISHED-TTL:P3D
REFRESH-INTERVAL:P3D
CALSCALE:GREGORIAN
BEGIN:VEVENT
DTSTART:20170315T213000Z
DTEND:20170315T233000Z
X-MICROSOFT-CDO-ALLDAYEVENT:FALSE
SUMMARY:Small Business After Hours at Hampshire Hills-Attendee Registration
DESCRIPTION:Join us for at Hampshire Hills for a Business After Hours featuring our Small Business members. Learn about the products and services of several of our members - find new potential vendors and partners!
X-ALT-DESC;FMTTYPE=text/html:Join us for at Hampshire Hills for a Business After Hours featuring our Small Business members. Learn about the products and services of several of our members - find new potential vendors and partners!
LOCATION:50 Emerson Road\, Milford NH 03055.
UID:e.2735.417
SEQUENCE:3
DTSTAMP:20260420T154227Z
URL:http://members.gmsvcc.org/events/details/small-business-after-hours-at-hampshire-hills-attendee-registration-417
END:VEVENT

END:VCALENDAR
