BEGIN:VCALENDAR
VERSION:2.0
PRODID:-//ChamberMaster//Event Calendar 2.0//EN
METHOD:PUBLISH
X-PUBLISHED-TTL:P3D
REFRESH-INTERVAL:P3D
CALSCALE:GREGORIAN
BEGIN:VEVENT
DTSTART:20170223T230000Z
DTEND:20170224T020000Z
X-MICROSOFT-CDO-ALLDAYEVENT:FALSE
SUMMARY:Sip N' Shop at Robin's Egg
DESCRIPTION:Enjoy FREE wine\, sweets and snacks PLUS 15% OFF of EVERYTHING in the shop! Grab a few friends and come see us!
X-ALT-DESC;FMTTYPE=text/html:<span style="color: rgb(29\, 33\, 41)\; font-family: &quot\;Helvetica Neue&quot\;\, Helvetica\, Arial\, sans-serif\; font-size: 14px\;">Enjoy FREE wine\, sweets and snacks PLUS 15% OFF of EVERYTHING in the shop! Grab a few friends and come see us!</span>
LOCATION:Robin's Egg 326 Nashua St\, Milford\, NH 03055
UID:e.2735.785
SEQUENCE:3
DTSTAMP:20260420T165041Z
URL:http://members.gmsvcc.org/events/details/sip-n-shop-at-robin-s-egg-785
END:VEVENT

END:VCALENDAR
