BEGIN:VCALENDAR
VERSION:2.0
PRODID:-//ChamberMaster//Event Calendar 2.0//EN
METHOD:PUBLISH
X-PUBLISHED-TTL:P3D
REFRESH-INTERVAL:P3D
CALSCALE:GREGORIAN
BEGIN:VEVENT
DTSTART:20170306T230000Z
DTEND:20170307T003000Z
X-MICROSOFT-CDO-ALLDAYEVENT:FALSE
SUMMARY:Screenagers Film Showing
DESCRIPTION:Award-winning SCREENAGERS probes into the vulnerable corners of family life\, including the director's own\, and depicts messy struggles\, over social media\, video games\, academics and internet addiction. Through surprising insights from authors and brain scientists solutions emerge on how we can empower kids to best navigate the digital world.
X-ALT-DESC;FMTTYPE=text/html:<span style="font-size:18px\;"><span style="font-family:arial\;"><span style="color: rgb(92\, 93\, 95)\; font-weight: bold\; background-color: rgb(255\, 255\, 255)\;">Award-winning SCREENAGERS probes into the vulnerable corners of family life\, including the director&#39\;s own\, and depicts messy struggles\, over social media\, video games\, academics and internet addiction. Through surprising insights from authors and brain scientists solutions emerge on how we can empower kids to best navigate the digital world.</span></span></span>
LOCATION:Amherst Middle School 14 Cross Road Amherst NH 03031
UID:e.2735.783
SEQUENCE:3
DTSTAMP:20260420T153605Z
URL:http://members.gmsvcc.org/events/details/screenagers-film-showing-783
END:VEVENT

END:VCALENDAR
