BEGIN:VCALENDAR
VERSION:2.0
PRODID:-//ChamberMaster//Event Calendar 2.0//EN
METHOD:PUBLISH
X-PUBLISHED-TTL:P3D
REFRESH-INTERVAL:P3D
CALSCALE:GREGORIAN
BEGIN:VEVENT
DTSTART:20160711T130000Z
DTEND:20160804T210000Z
X-MICROSOFT-CDO-ALLDAYEVENT:FALSE
SUMMARY:School Supply Drive for SHARE Outreach at Edward Jones Investments
DESCRIPTION:Please join us in support of SHARE Outreach and their 2016 School Supply Drive.\n\nEdward Jones\, located at 64 South Street in Milford\, is a drop off location for school supplies from July 11 to August 4 during business hours. Bring your donations of school supplies\, canned food or sundry items and help out children in our communities. \n\nPlease note\, Edward Jones cannot accept donations of cash\, checks or gift cards.
X-ALT-DESC;FMTTYPE=text/html:Please join us in support of SHARE Outreach and their 2016 School Supply Drive.<br />\nEdward Jones\, located at 64 South Street in Milford\, is a drop off location for school supplies from July 11 to August 4 during business hours. Bring your donations of school supplies\, canned food or sundry items and help out children in our communities.&nbsp\;<br />\nPlease note\, Edward Jones cannot accept donations of cash\, checks or gift cards.
LOCATION:64 South Street\, Milford NH 03055
UID:e.2735.433
SEQUENCE:3
DTSTAMP:20260421T021115Z
URL:http://members.gmsvcc.org/events/details/school-supply-drive-for-share-outreach-at-edward-jones-investments-07-11-2016-433
END:VEVENT

END:VCALENDAR
