BEGIN:VCALENDAR
VERSION:2.0
PRODID:-//ChamberMaster//Event Calendar 2.0//EN
METHOD:PUBLISH
X-PUBLISHED-TTL:P3D
REFRESH-INTERVAL:P3D
CALSCALE:GREGORIAN
BEGIN:VEVENT
DTSTART;VALUE=DATE:20160917
DTEND;VALUE=DATE:20160919
TRANSP:TRANSPARENT
X-MICROSOFT-CDO-ALLDAYEVENT:TRUE
SUMMARY:Robin's Egg Harvest Market
DESCRIPTION:Our annual welcoming of fall... 40+ vendors will have the shop filled to the rafters with everything you need to add autumn charm to your home. Bring a friend and enjoy a day of shopping while sipping warm apple cider!
X-ALT-DESC;FMTTYPE=text/html:Our annual welcoming of fall... 40+ vendors will have the shop filled to the rafters with everything you need to add autumn charm to your home. Bring a friend and enjoy a day of shopping while sipping warm apple cider!
LOCATION:Robin's Egg 326 Nashua Street Milford\, NH 03055
UID:e.2735.583
SEQUENCE:3
DTSTAMP:20260421T002706Z
URL:http://members.gmsvcc.org/events/details/robin-s-egg-harvest-market-09-17-2016-583
END:VEVENT

END:VCALENDAR
