BEGIN:VCALENDAR
VERSION:2.0
PRODID:-//ChamberMaster//Event Calendar 2.0//EN
METHOD:PUBLISH
X-PUBLISHED-TTL:P3D
REFRESH-INTERVAL:P3D
CALSCALE:GREGORIAN
BEGIN:VEVENT
DTSTART:20161109T210000Z
DTEND:20161109T230000Z
X-MICROSOFT-CDO-ALLDAYEVENT:FALSE
SUMMARY:Ribbon Cutting & Open House for Amherst Wellness Center (formerly Acupuncture & Everything Wellness)
DESCRIPTION:Join us for a ribbon cutting to celebrate the grand opening of the Amherst Wellness Center\, formerly Acupuncture & Everything Wellness. Check out their new office space along with their new services - now offering hypnotherapy and deep tissue massage.
X-ALT-DESC;FMTTYPE=text/html:Join us for a ribbon cutting to celebrate the grand opening of the Amherst Wellness Center\, formerly Acupuncture &amp\; Everything Wellness. Check out their new office space along with their new services - now offering hypnotherapy and deep tissue massage.
LOCATION:17 Old Nashua Road Amherst NH 03031
UID:e.2735.611
SEQUENCE:3
DTSTAMP:20260420T215917Z
URL:http://members.gmsvcc.org/events/details/ribbon-cutting-open-house-for-amherst-wellness-center-formerly-acupuncture-everything-wellness-611
END:VEVENT

END:VCALENDAR
