BEGIN:VCALENDAR
VERSION:2.0
PRODID:-//ChamberMaster//Event Calendar 2.0//EN
METHOD:PUBLISH
X-PUBLISHED-TTL:P3D
REFRESH-INTERVAL:P3D
CALSCALE:GREGORIAN
BEGIN:VEVENT
DTSTART:20260430T170000Z
DTEND:20260430T190000Z
X-MICROSOFT-CDO-ALLDAYEVENT:FALSE
SUMMARY:Ribbon Cutting at Staples
DESCRIPTION:Join us at Staples in Amherst for their ribbon cutting celebrating their merger with Party City!
X-ALT-DESC;FMTTYPE=text/html:Join us at Staples in Amherst for their ribbon cutting celebrating their merger with Party City!
LOCATION:Staples 124 Amherst St. Amherst\, NH
UID:e.2735.7175
SEQUENCE:3
DTSTAMP:20260421T231813Z
URL:http://members.gmsvcc.org/events/details/ribbon-cutting-at-staples-7175
END:VEVENT

END:VCALENDAR
