BEGIN:VCALENDAR
VERSION:2.0
PRODID:-//ChamberMaster//Event Calendar 2.0//EN
METHOD:PUBLISH
X-PUBLISHED-TTL:P3D
REFRESH-INTERVAL:P3D
CALSCALE:GREGORIAN
BEGIN:VEVENT
DTSTART:20170112T203000Z
DTEND:20170112T210000Z
X-MICROSOFT-CDO-ALLDAYEVENT:FALSE
SUMMARY:Ribbon Cutting at Microtime Computers
DESCRIPTION:Help us to celebrate Microtime Computer's new location with a ribbon cutting!
X-ALT-DESC;FMTTYPE=text/html:Help us to celebrate Microtime Computer&#39\;s new location with a ribbon cutting!
LOCATION:5 Northern Blvd\, Unit 14 Amherst NH 03031
UID:e.2735.620
SEQUENCE:3
DTSTAMP:20260420T181229Z
URL:http://members.gmsvcc.org/events/details/ribbon-cutting-at-microtime-computers-620
END:VEVENT

END:VCALENDAR
