BEGIN:VCALENDAR
VERSION:2.0
PRODID:-//ChamberMaster//Event Calendar 2.0//EN
METHOD:PUBLISH
X-PUBLISHED-TTL:P3D
REFRESH-INTERVAL:P3D
CALSCALE:GREGORIAN
BEGIN:VEVENT
DTSTART:20180419T203000Z
DTEND:20180419T210000Z
X-MICROSOFT-CDO-ALLDAYEVENT:FALSE
SUMMARY:Ribbon Cutting at Amherst Board and Brush
DESCRIPTION:Help us to celebrate with our new Chamber member\, Amherst Board and Brush\,  with a ribbon cutting at their brand new store in Amherst!
X-ALT-DESC;FMTTYPE=text/html:Help us to celebrate with our new Chamber member\, Amherst Board and Brush\,&nbsp\;&nbsp\;with a ribbon cutting at their brand new store in Amherst!
LOCATION:292 Route 101 Salzburg Square Amherst NH 03031
UID:e.2735.3554
SEQUENCE:3
DTSTAMP:20260419T204703Z
URL:http://members.gmsvcc.org/events/details/ribbon-cutting-at-amherst-board-and-brush-3554
END:VEVENT

END:VCALENDAR
