BEGIN:VCALENDAR
VERSION:2.0
PRODID:-//ChamberMaster//Event Calendar 2.0//EN
METHOD:PUBLISH
X-PUBLISHED-TTL:P3D
REFRESH-INTERVAL:P3D
CALSCALE:GREGORIAN
BEGIN:VEVENT
DTSTART:20170406T200000Z
DTEND:20170406T220000Z
X-MICROSOFT-CDO-ALLDAYEVENT:FALSE
SUMMARY:Ribbon Cutting! Art Happens Opens New Gift Shop
DESCRIPTION:Join us to celebrate the opening of a new gift shop at Art Happens with a ribbon cutting and open house! Check out the gift shop and all the neat items!
X-ALT-DESC;FMTTYPE=text/html:Join us to celebrate the opening of a new gift shop at Art Happens with a ribbon cutting and open house! Check out the gift shop and all the neat items!
LOCATION:37 Wilton Rd (Pine Valley Mill) Milford\, NH 03055
UID:e.2735.794
SEQUENCE:3
DTSTAMP:20260420T140502Z
URL:http://members.gmsvcc.org/events/details/ribbon-cutting-art-happens-opens-new-gift-shop-794
END:VEVENT

END:VCALENDAR
