BEGIN:VCALENDAR
VERSION:2.0
PRODID:-//ChamberMaster//Event Calendar 2.0//EN
METHOD:PUBLISH
X-PUBLISHED-TTL:P3D
REFRESH-INTERVAL:P3D
CALSCALE:GREGORIAN
BEGIN:VEVENT
DTSTART:20170412T220000Z
DTEND:20170413T000000Z
X-MICROSOFT-CDO-ALLDAYEVENT:FALSE
SUMMARY:Protecting your Spouse\, Children & Assets with a Trust
DESCRIPTION:Find out how to avoid the most common mistakes and get all your Estate Planning questions answered by Attorney Donald H. Sienkiewicz
X-ALT-DESC;FMTTYPE=text/html:<span style="color: rgb(0\, 58\, 74)\; font-family: Arial\, Helvetica\, sans-serif\; font-size: 12px\;">Find out how to avoid the most common mistakes and get all your Estate Planning questions answered by Attorney Donald H. Sienkiewicz</span>
LOCATION:Milford Community House 5 Union Street Milford NH 03055
UID:e.2735.789
SEQUENCE:3
DTSTAMP:20260420T140330Z
URL:http://members.gmsvcc.org/events/details/protecting-your-spouse-children-assets-with-a-trust-789
END:VEVENT

END:VCALENDAR
