BEGIN:VCALENDAR
VERSION:2.0
PRODID:-//ChamberMaster//Event Calendar 2.0//EN
METHOD:PUBLISH
X-PUBLISHED-TTL:P3D
REFRESH-INTERVAL:P3D
CALSCALE:GREGORIAN
BEGIN:VEVENT
DTSTART:20180406T223000Z
DTEND:20180406T233000Z
X-MICROSOFT-CDO-ALLDAYEVENT:FALSE
SUMMARY:Philosophy of Color
DESCRIPTION:Want to learn more about what color says to people? Creative Ventures Gallery will be holding 'The Philosophy of Color' with Audra Saunders on April 6 at 6:30-7:30pm. This is part of CVG's free first Friday of the month art talks. Everyone is welcome\, so come join us and find out more about how color affects us at 411 Nashua Street in Milford.
X-ALT-DESC;FMTTYPE=text/html:Want to learn more about what color says to people? Creative Ventures Gallery will be holding &#39\;The Philosophy of Color&#39\; with Audra Saunders on April 6 at 6:30-7:30pm. This is part of CVG&#39\;s free first Friday of the month art talks. Everyone is welcome\, so come join us and find out more about how color affects us at 411 Nashua Street in Milford.
LOCATION:Creative Ventures Gallery 411 Nashua Street Milford NH 03055
UID:e.2735.3539
SEQUENCE:3
DTSTAMP:20260419T193645Z
URL:http://members.gmsvcc.org/events/details/philosophy-of-color-3539
END:VEVENT

END:VCALENDAR
