BEGIN:VCALENDAR
VERSION:2.0
PRODID:-//ChamberMaster//Event Calendar 2.0//EN
METHOD:PUBLISH
X-PUBLISHED-TTL:P3D
REFRESH-INTERVAL:P3D
CALSCALE:GREGORIAN
BEGIN:VEVENT
DTSTART:20170304T170000Z
DTEND:20170304T220000Z
X-MICROSOFT-CDO-ALLDAYEVENT:FALSE
SUMMARY:Pet First Aid and CPR
DESCRIPTION:When: Saturday\, March 4th\, 12:00-5:00 Where: HnHPT Clinic\, 288 S. Merrimack Rd\, Hollis\, NH Who: given by Healthy Pets NH\; Cost: $65.00 Portion of proceeds go to Peace & Paws Call to reserve your spot! 603-465-4444 This class is ideal for pet owners and pet professionals who want to know how to provide basic emergency and first aid care for their pet prior to veterinary care. Research done by the American Animal Hospital Association has shown that 60% of all animal hospital visits are emergency in nature and that 1 out of 4 more pet's lives could be saved if just one first aid technique was delivered before veterinary care. This class will buy your pet valuable\, life saving time by teaching you over 50 different skill sets that you can use prior to veterinary care. It combines lecture\, demonstration and hands on skills practice. The class includes a workbook and\, upon successful completion\, each participant will receive a 2 year certification in CPR and First Aid for Pets.
X-ALT-DESC;FMTTYPE=text/html:When: Saturday\, March 4th\, 12:00-5:00 Where: HnHPT Clinic\, 288 S. Merrimack Rd\, Hollis\, NH Who: given by Healthy Pets NH\; Cost: $65.00 Portion of proceeds go to Peace &amp\; Paws Call to reserve your spot! 603-465-4444 This class is ideal for pet owners and pet professionals who want to know how to provide basic emergency and first aid care for their pet prior to veterinary care. Research done by the American Animal Hospital Association has shown that 60% of all animal hospital visits are emergency in nature and that 1 out of 4 more pet&rsquo\;s lives could be saved if just one first aid technique was delivered before veterinary care. This class will buy your pet valuable\, life saving time by teaching you over 50 different skill sets that you can use prior to veterinary care. It combines lecture\, demonstration and hands on skills practice. The class includes a workbook and\, upon successful completion\, each participant will receive a 2 year certification in CPR and First Aid for Pets.
LOCATION:HnHPT Clinic\, 288 S. Merrimack Rd\, Hollis\, NH
UID:e.2735.781
SEQUENCE:3
DTSTAMP:20260420T153501Z
URL:http://members.gmsvcc.org/events/details/pet-first-aid-and-cpr-781
END:VEVENT

END:VCALENDAR
