BEGIN:VCALENDAR
VERSION:2.0
PRODID:-//ChamberMaster//Event Calendar 2.0//EN
METHOD:PUBLISH
X-PUBLISHED-TTL:P3D
REFRESH-INTERVAL:P3D
CALSCALE:GREGORIAN
BEGIN:VEVENT
DTSTART:20160806T140000Z
DTEND:20160806T220000Z
X-MICROSOFT-CDO-ALLDAYEVENT:FALSE
SUMMARY:Pastiche Boutique Anniversary Open House
DESCRIPTION:Join us on Saturday\, August 6th from 10am to 6pm in celebration of our Second Year Anniversary and all of you\, for supporting us along the way!\n\n\n\nRefreshments & Treats will be served along with Raffle Items\, Select Items on SALE and a Free Gift with your purchase of $20 or more.\n\n\n\nWe look forward to seeing you all there and thank you for shopping with Pastiche!
X-ALT-DESC;FMTTYPE=text/html:<span style="font-family:tahoma"><span style="color:#000000"><span style="font-size:14px">Join us on Saturday\, August 6th from 10am to 6pm in celebration of our Second Year Anniversary and all of you\, for supporting us along the way!</span><br />\n<br />\n<span style="font-size:14px">Refreshments &amp\; Treats will be served along with Raffle Items\, Select Items on <em>SALE&nbsp\;</em>and a <em>Free Gift</em> with your purchase of $20 or more.</span><br />\n<br />\n<span style="font-size:14px">We look forward to seeing you all there and thank you for shopping with Pastiche!</span></span></span>
LOCATION:Pastiche Boutique\, LLC 263 Union Square ~ On the Oval Milford\, NH 03055
UID:e.2735.436
SEQUENCE:3
DTSTAMP:20260421T020936Z
URL:http://members.gmsvcc.org/events/details/pastiche-boutique-anniversary-open-house-08-06-2016-436
END:VEVENT

END:VCALENDAR
