BEGIN:VCALENDAR
VERSION:2.0
PRODID:-//ChamberMaster//Event Calendar 2.0//EN
METHOD:PUBLISH
X-PUBLISHED-TTL:P3D
REFRESH-INTERVAL:P3D
CALSCALE:GREGORIAN
BEGIN:VEVENT
DTSTART;VALUE=DATE:20170330
DTEND;VALUE=DATE:20170418
TRANSP:TRANSPARENT
X-MICROSOFT-CDO-ALLDAYEVENT:TRUE
SUMMARY:Openings at Amherst Karate Studio
DESCRIPTION:We have a few openings in our beginner kids class ( our adult class too!) session starts April 17 SVCC members save $10 on trial program!Openings O\n\n SVCC get $10 off a two week trial membership! Uniform included! Visit amherstkaratestudio.com
X-ALT-DESC;FMTTYPE=text/html:We have a few openings in our beginner kids class ( our adult class too!) session starts April 17 SVCC members save $10 on trial program!Openings O<br />\n&#8203\;SVCC get $10 off a two week trial membership! Uniform included! Visit amherstkaratestudio.com&nbsp\;
LOCATION:
UID:e.2735.1798
SEQUENCE:3
DTSTAMP:20260420T152650Z
URL:http://members.gmsvcc.org/events/details/openings-at-amherst-karate-studio-1798
END:VEVENT

END:VCALENDAR
