BEGIN:VCALENDAR
VERSION:2.0
PRODID:-//ChamberMaster//Event Calendar 2.0//EN
METHOD:PUBLISH
X-PUBLISHED-TTL:P3D
REFRESH-INTERVAL:P3D
CALSCALE:GREGORIAN
BEGIN:VEVENT
DTSTART:20170321T210000Z
DTEND:20170321T230000Z
X-MICROSOFT-CDO-ALLDAYEVENT:FALSE
SUMMARY:Open For Business In Milford!
DESCRIPTION:Looking to Expand or Relocate Your Business? Think Milford!\n\nJoin the Milford Improvement Team and Milford Community Development Office for a panel presentation on everything you need to know to open a business. Present will be the Town Administrator\, Building Inspector\, Fire Department\, Commercial Lenders\, Insurance and Real Estate professionals. Learn what you need to know find a location\, fit it up for your business\, and necessary permits.
X-ALT-DESC;FMTTYPE=text/html:Looking to Expand or Relocate Your Business? Think Milford!<br />\nJoin the Milford Improvement Team and Milford Community Development Office for a panel presentation on everything you need to know to open a business. Present will be the Town Administrator\, Building Inspector\, Fire Department\, Commercial Lenders\, Insurance and Real Estate professionals. Learn what you need to know find a location\, fit it up for your business\, and necessary permits.
LOCATION:Milford Town Hall 3rd Floor Banquet Hall 1 Union Square Milford NH 03055
UID:e.2735.787
SEQUENCE:3
DTSTAMP:20260420T153849Z
URL:http://members.gmsvcc.org/events/details/open-for-business-in-milford-787
END:VEVENT

END:VCALENDAR
