BEGIN:VCALENDAR
VERSION:2.0
PRODID:-//ChamberMaster//Event Calendar 2.0//EN
METHOD:PUBLISH
X-PUBLISHED-TTL:P3D
REFRESH-INTERVAL:P3D
CALSCALE:GREGORIAN
BEGIN:VEVENT
DTSTART:20171014T150000Z
DTEND:20171014T210000Z
X-MICROSOFT-CDO-ALLDAYEVENT:FALSE
SUMMARY:Oktoberfest at Salzburg Square
DESCRIPTION:Come join us at Salzburg Square for a family-fun day of delicious food\, beer tastings\, entertainment\, arts and crafts\, handmade items\, freshly pressed cider\, German goodies\, and much more!
X-ALT-DESC;FMTTYPE=text/html:Come join us at Salzburg Square for a family-fun day of delicious food\, beer tastings\, entertainment\, arts and crafts\, handmade items\, freshly pressed cider\, German goodies\, and much more!
LOCATION:292 Route 101 Amherst\, NH 03031
UID:e.2735.2825
SEQUENCE:3
DTSTAMP:20260420T042052Z
URL:http://members.gmsvcc.org/events/details/oktoberfest-at-salzburg-square-2825
END:VEVENT

END:VCALENDAR
