BEGIN:VCALENDAR
VERSION:2.0
PRODID:-//ChamberMaster//Event Calendar 2.0//EN
METHOD:PUBLISH
X-PUBLISHED-TTL:P3D
REFRESH-INTERVAL:P3D
CALSCALE:GREGORIAN
BEGIN:VEVENT
DTSTART:20170420T123000Z
DTEND:20170420T133000Z
X-MICROSOFT-CDO-ALLDAYEVENT:FALSE
SUMMARY:Nonprofit Networking Roundtable
DESCRIPTION:Nonprofit organizations are the backbone of our communities\, often providing critical services that state/local government cannot provide alone and mainly responsible for creating the cultural and recreational amenities that make our communities a great place to live. However\, leading a nonprofit organization is challenging. Funding sources and resources are becoming more scarce. Volunteers have less time to give and the millennial generation is changing the nature of volunteerism. Event sponsors are more concerned with ROI than supporting an event because of the cause.   \n\nThe purpose of the roundtable is bring to our member nonprofits together to communicate about these issues\, network amongst other nonprofit professionals\, trade best practices and update each other on upcoming events.
X-ALT-DESC;FMTTYPE=text/html:Nonprofit organizations are the backbone of our communities\, often providing critical services that state/local government cannot provide alone and mainly responsible for creating the cultural and recreational amenities that make our communities a great place to live. However\, leading a nonprofit organization is challenging. Funding sources and resources are becoming more scarce. Volunteers have less time to give and the millennial generation is changing the nature of volunteerism. Event sponsors are more concerned with ROI than supporting an event because of the cause. &nbsp\;&nbsp\;<br />\n<span style="font-family:calibri\,sans-serif\;"><span style="font-size:11.0pt\;">The purpose of the roundtable is bring to our member nonprofits together to communicate about these issues\, network amongst other nonprofit professionals\, trade best practices and update each other on upcoming events.&nbsp\;</span></span>
LOCATION:SVCC Office 69 Route 101A Amherst NH 03031 same building as Granite Bank
UID:e.2735.643
SEQUENCE:3
DTSTAMP:20260420T135822Z
URL:http://members.gmsvcc.org/events/details/nonprofit-networking-roundtable-643
END:VEVENT

END:VCALENDAR
