BEGIN:VCALENDAR
VERSION:2.0
PRODID:-//ChamberMaster//Event Calendar 2.0//EN
METHOD:PUBLISH
X-PUBLISHED-TTL:P3D
REFRESH-INTERVAL:P3D
CALSCALE:GREGORIAN
BEGIN:VEVENT
DTSTART:20180911T140000Z
DTEND:20180911T153000Z
X-MICROSOFT-CDO-ALLDAYEVENT:FALSE
SUMMARY:Nonprofit Networking Roundtable
DESCRIPTION:Nonprofit organizations are the backbone of our communities\, often providing critical services that state/local government cannot provide alone and mainly responsible for creating the cultural and recreational amenities that make our communities a great place to live. However\, leading a nonprofit organization is challenging. Funding sources and resources are becoming more scarce. Volunteers have less time to give and  Event sponsors expect a ROI. \n\nThe purpose of the roundtable is bring to our member nonprofits together to communicate about these issues\, network amongst other nonprofit professionals\, trade best practices and update each other on upcoming events. \n\n\n\nGuest spekaer will be Dan Snyder\, VP of Enterprise Bank.   He will talk about Enterprise Bank's series of  non-profit  collaberative seminars.
X-ALT-DESC;FMTTYPE=text/html:Nonprofit organizations are the backbone of our communities\, often providing critical services that state/local government cannot provide alone and mainly responsible for creating the cultural and recreational amenities that make our communities a great place to live. However\, leading a nonprofit organization is challenging. Funding sources and resources are becoming more scarce. Volunteers have less time to give and &nbsp\;Event sponsors expect a ROI.&nbsp\;<br />\n<span style="font-family:calibri\,sans-serif\;"><span style="font-size:11.0pt\;">The purpose of the roundtable is bring to our <u><strong>member nonprofits</strong></u> together to communicate about these issues\, network amongst other nonprofit professionals\, trade best practices and update each other on upcoming events.&nbsp\;<br />\n<br />\nGuest spekaer will be Dan Snyder\, VP of Enterprise Bank.&nbsp\; &nbsp\;He will talk about Enterprise Bank&#39\;s series of&nbsp\; non-profit&nbsp\; collaberative seminars.&nbsp\;&nbsp\;</span></span>
LOCATION:SVCC Office 69 Route 101A Amherst NH 03031
UID:e.2735.3721
SEQUENCE:3
DTSTAMP:20260419T121237Z
URL:http://members.gmsvcc.org/events/details/nonprofit-networking-roundtable-3721
END:VEVENT

END:VCALENDAR
