BEGIN:VCALENDAR
VERSION:2.0
PRODID:-//ChamberMaster//Event Calendar 2.0//EN
METHOD:PUBLISH
X-PUBLISHED-TTL:P3D
REFRESH-INTERVAL:P3D
CALSCALE:GREGORIAN
BEGIN:VEVENT
DTSTART:20160915T123000Z
DTEND:20160915T140000Z
X-MICROSOFT-CDO-ALLDAYEVENT:FALSE
SUMMARY:New Wage Laws Workshop-Learn How New Laws Will Affect Your Business: A Build Your Business Workshop
DESCRIPTION:New regulations go into effect on December 1\, 2016 of the Fair Labor Standards Act's minimum wage and overtime standards. These new rulings will affect most businesses and nonprofit organizations\, possibly substantially\, when it comes to whether employees are eligible for overtime pay. Employees who are exempt or 'salaried'\, but make less than $47\,476 per year will now be considered hourly workers and eligible for overtime. \n\nLearn the regulations and find out what you need to know to be in compliance. Our speaker Steven McKinney is Community Outreach and Resource Planning Specialist for the Northern New England District Office of the United States Department of Labor Wage and Hour Division.  Steven started working for the Department of Labor in 2010 as a Wage and Hour Investigator.  Over the next 6 years as an Investigator\, Steven obtained direct experience enforcing the Fair Labor Standards Act\, the Family Medical Leave Act\, the Service Contract Act\, the Davis Bacon and Related Acts\, the Migrant and Seasonal Workers Protection Act\, H-2A\, H-2B\, and OSHA (Field Sanitation and Temporary Labor Camps).  Prior to becoming an investigator\, Steven worked as an attorney for the Law Offices of Ferris & Ferris in Chesterfield\, Virginia.\n\nFees for noncompliance will be stiff - find out what you don't know! This is important for all employers.
X-ALT-DESC;FMTTYPE=text/html:<p class="p1" style="margin: 0px 0px 10px\; color: rgb(0\, 0\, 0)\; font-family: &quot\;Helvetica Neue&quot\;\, Helvetica\, Arial\, sans-serif\; font-size: 16px\; line-height: 27.2px\;"><span style="font-size:12px\;"><span style="font-family:arial\;"><span class="s1">New regulations go into effect on <strong>December 1\, 2016</strong> of the Fair Labor Standards Act&rsquo\;s minimum wage and overtime standards. These new rulings will affect most businesses and nonprofit organizations\, possibly substantially\, when it comes to whether employees are eligible for overtime pay. Employees who are exempt or &#39\;salaried&#39\;\, but make less than&nbsp\;</span><span style="color: rgb(0\, 0\, 0)\; line-height: 27.2px\;">$47\,476 per year will now be considered hourly workers and eligible for overtime.&nbsp\;<br />\nLearn the regulations and find out what you need to know to be in compliance. Our speaker </span>Steven McKinney is Community Outreach and Resource Planning Specialist for the Northern New England District Office of the United States Department of Labor Wage and Hour Division. &nbsp\;Steven started working for the Department of Labor in 2010 as a Wage and Hour Investigator.&nbsp\; Over the next 6 years as an Investigator\, Steven obtained direct experience enforcing the Fair Labor Standards Act\, the Family Medical Leave Act\, the Service Contract Act\, the Davis Bacon and Related Acts\, the Migrant and Seasonal Workers Protection Act\, H-2A\, H-2B\, and OSHA (Field Sanitation and Temporary Labor Camps).&nbsp\; Prior to becoming an investigator\, Steven worked as an attorney for the Law Offices of Ferris &amp\; Ferris in Chesterfield\, Virginia.<br />\n<span style="color: rgb(0\, 0\, 0)\; line-height: 27.2px\;">Fees for noncompliance will be stiff - find out what you don&#39\;t know! This is important for all employers.</span></span></span></p>\n\n<p class="p1" style="margin: 0px 0px 10px\; color: rgb(0\, 0\, 0)\; font-family: &quot\;Helvetica Neue&quot\;\, Helvetica\, Arial\, sans-serif\; font-size: 16px\; line-height: 27.2px\;">&nbsp\;</p>\n
LOCATION:Souhegan Valley Chamber of Commerce office located at 69 Route 101A\, Amherst NH 03031. Same building as Granite Bank.
UID:e.2735.282
SEQUENCE:3
DTSTAMP:20260421T021518Z
URL:http://members.gmsvcc.org/events/details/new-wage-laws-workshop-learn-how-new-laws-will-affect-your-business-a-build-your-business-workshop-09-15-2016-282
END:VEVENT

END:VCALENDAR
