BEGIN:VCALENDAR
VERSION:2.0
PRODID:-//ChamberMaster//Event Calendar 2.0//EN
METHOD:PUBLISH
X-PUBLISHED-TTL:P3D
REFRESH-INTERVAL:P3D
CALSCALE:GREGORIAN
BEGIN:VEVENT
DTSTART:20170223T133000Z
DTEND:20170223T150000Z
X-MICROSOFT-CDO-ALLDAYEVENT:FALSE
SUMMARY:New & Prospective Member Orientation
DESCRIPTION:The Souhegan Valley Chamber of Commerce invites business owners and managers to an orientation breakfast of the Chamber on Thursday\, February 16 from 8:30-10:00 AM at the SVCC office\, 69 Route 101A\, Amherst. Learn about the benefits of membership\, programs and networking opportunities and meet the staff and board members. If you have recently joined the Chamber or you are interested in learning about what the Chamber can do for your business\, this is a great time to ask questions. We will also be doing a drawing for free advertising on our website   a $300 value! A light breakfast will be served. Please RSVP to beth.boggis@souhegan.net.\n\n \n\nDid you know: when consumers know that a small business is a member of their local chamber of commerce\, they are 44 percent more likely to think favorably of it and 63 percent more likely to purchase goods or services from the company in the future? This is one of the many benefits of belonging to your local Chamber of Commerce\, along with several tangible benefits such as group and member to member discounts\, networking opportunities\, advocacy with lawmakers and business growth.\n\n \n\nThe Souhegan Valley Chamber of Commerce promotes successful relationships for the business and civic community in the eleven towns of the Souhegan Valley. The Chamber supports economic development and growth\, as well as valuable local information and referrals to businesses and the general public.
X-ALT-DESC;FMTTYPE=text/html:The Souhegan Valley Chamber of Commerce invites business owners and managers to an orientation breakfast of the Chamber on Thursday\, February 16 from 8:30-10:00 AM at the SVCC office\, 69 Route 101A\, Amherst. Learn about the benefits of membership\, programs and networking opportunities and meet the staff and board members. If you have recently joined the Chamber or you are interested in learning about what the Chamber can do for your business\, this is a great time to ask questions. We will also be doing a drawing for free advertising on our website &ndash\; a $300 value! A light breakfast will be served. Please RSVP to <a href="mailto:beth.boggis@souhegan.net">beth.boggis@souhegan.net</a>.<br />\n&nbsp\;<br />\nDid you know: when consumers know that a small business is a member of their local chamber of commerce\, they are 44 percent more likely to think favorably of it and 63 percent more likely to purchase goods or services from the company in the future? This is one of the many benefits of belonging to your local Chamber of Commerce\, along with several tangible benefits such as group and member to member discounts\, networking opportunities\, advocacy with lawmakers and business growth.<br />\n&nbsp\;<br />\nThe Souhegan Valley Chamber of Commerce promotes successful relationships for the business and civic community in the eleven towns of the Souhegan Valley. The Chamber supports economic development and growth\, as well as valuable local information and referrals to businesses and the general public.
LOCATION:SVCC Office 69 Route 101A\, Amherst (same building as Granite Bank)
UID:e.2735.642
SEQUENCE:3
DTSTAMP:20260420T181219Z
URL:http://members.gmsvcc.org/events/details/new-prospective-member-orientation-642
END:VEVENT

END:VCALENDAR
