BEGIN:VCALENDAR
VERSION:2.0
PRODID:-//ChamberMaster//Event Calendar 2.0//EN
METHOD:PUBLISH
X-PUBLISHED-TTL:P3D
REFRESH-INTERVAL:P3D
CALSCALE:GREGORIAN
BEGIN:VEVENT
DTSTART:20170909T140000Z
DTEND:20170909T170000Z
X-MICROSOFT-CDO-ALLDAYEVENT:FALSE
SUMMARY:My Dogs are Barking 5k
DESCRIPTION:Join us for one of the few dog-friendly 5ks in the area on September 9th at Derryfield park. After the race stay in the park for Pet Fair and enjoy vendors\, food trucks\, dog demonstrations and more! Pet Fair is free to the public. To register for the 5k visit www.mydogsarebarking5k.org
X-ALT-DESC;FMTTYPE=text/html:Join us for one of the few dog-friendly 5ks in the area on September 9th at Derryfield park. After the race stay in the park for Pet Fair and enjoy vendors\, food trucks\, dog demonstrations and more! Pet Fair is free to the public. To register for the 5k visit www.mydogsarebarking5k.org
LOCATION:Derryfield Park
UID:e.2735.2838
SEQUENCE:3
DTSTAMP:20260420T073956Z
URL:http://members.gmsvcc.org/events/details/my-dogs-are-barking-5k-2838
END:VEVENT

END:VCALENDAR
