BEGIN:VCALENDAR
VERSION:2.0
PRODID:-//ChamberMaster//Event Calendar 2.0//EN
METHOD:PUBLISH
X-PUBLISHED-TTL:P3D
REFRESH-INTERVAL:P3D
CALSCALE:GREGORIAN
BEGIN:VEVENT
DTSTART:20170729T140000Z
DTEND:20170729T180000Z
X-MICROSOFT-CDO-ALLDAYEVENT:FALSE
SUMMARY:Milford's Annual Family Fun Day
DESCRIPTION:Join us for Milford's Annual Family Fun Day! This free event at Keyes Field in Milford always coincides with our Annual MSBL 3 on 3 Basketball Tournament. Now in our 12th year\, we welcome all from the Souhegan Valley! Our event will run from 10-2 pm\; MSBL will be from 9:00 till 3:00\; and free food will be served from 11:30-1:30 on July\, 29 2017.* We will be having fun activities like:   LIVE MUSIC!   PROFESSIONAL SLIPPERY SLIDE!   DUNK TANK!   BOUNCY HOUSE!   FACE PAINTING!   FREE FOOD!!! (Parking is available at The Milford Boys and Girls Club across the footbridge (56 Mont Vernon Street). Entrance at 45 Elm Street\; if that access is blocked\, proceed beyond Milano's' and before Dunkin Donuts at 127 Elm Street\, and take the road to the right. *No rain date.)
X-ALT-DESC;FMTTYPE=text/html:Join us for Milford&#39\;s Annual Family Fun Day! This free event at Keyes Field in Milford always coincides with our Annual MSBL 3 on 3 Basketball Tournament. Now in our 12th year\, we welcome all from the Souhegan Valley! Our event will run from 10-2 pm\; MSBL will be from 9:00 till 3:00\; and free food will be served from 11:30-1:30 on July\, 29 2017.* We will be having fun activities like: &bull\; LIVE MUSIC! &bull\; PROFESSIONAL SLIPPERY SLIDE! &bull\; DUNK TANK! &bull\; BOUNCY HOUSE! &bull\; FACE PAINTING! &bull\; FREE FOOD!!! (Parking is available at The Milford Boys and Girls Club across the footbridge (56 Mont Vernon Street). Entrance at 45 Elm Street\; if that access is blocked\, proceed beyond Milano&rsquo\;s&rsquo\; and before Dunkin Donuts at 127 Elm Street\, and take the road to the right. *No rain date.)
LOCATION:Keyes Memorial Field 45 Elm Street\, Milford\, NH 03055
UID:e.2735.1806
SEQUENCE:3
DTSTAMP:20260420T091826Z
URL:http://members.gmsvcc.org/events/details/milford-s-annual-family-fun-day-1806
END:VEVENT

END:VCALENDAR
