BEGIN:VCALENDAR
VERSION:2.0
PRODID:-//ChamberMaster//Event Calendar 2.0//EN
METHOD:PUBLISH
X-PUBLISHED-TTL:P3D
REFRESH-INTERVAL:P3D
CALSCALE:GREGORIAN
BEGIN:VEVENT
DTSTART:20180728T140000Z
DTEND:20180728T180000Z
X-MICROSOFT-CDO-ALLDAYEVENT:FALSE
SUMMARY:Milford's Annual Family Fun Day
DESCRIPTION:Join us for Milford's Annual Family Fun Day! This free event at Keyes Field in Milford always coincides with our Annual MSBL 3 on 3 Basketball Tournament. Now in our 13th year\, we welcome all from the Souhegan Valley! Our event will run from 10-2 pm\; MSBL will be from 9:00 till 3:00\; and free food will be served from 11:30-1:30 on Saturday\, July\,28 2018. We will be having fun activities like:   LIVE MUSIC!   PROFFESSIONAL SLIPPERY SLIDE!   BOUNCY HOUSE!   FACE PAINTING!   FREE FOOD!!! (Parking is available at The Milford Boys and Girls Club across the footbridge.) (No rain date.)
X-ALT-DESC;FMTTYPE=text/html:Join us for Milford&#39\;s Annual Family Fun Day! This free event at Keyes Field in Milford always coincides with our Annual MSBL 3 on 3 Basketball Tournament. Now in our 13th year\, we welcome all from the Souhegan Valley! Our event will run from 10-2 pm\; MSBL will be from 9:00 till 3:00\; and free food will be served from 11:30-1:30 on Saturday\, July\,28 2018. We will be having fun activities like: &bull\; LIVE MUSIC! &bull\; PROFFESSIONAL SLIPPERY SLIDE! &bull\; BOUNCY HOUSE! &bull\; FACE PAINTING! &bull\; FREE FOOD!!! (Parking is available at The Milford Boys and Girls Club across the footbridge.) (No rain date.)
LOCATION:Keyes Memorial Field Park Off of Elm Street Milford\, NH 03055
UID:e.2735.3564
SEQUENCE:3
DTSTAMP:20260419T162732Z
URL:http://members.gmsvcc.org/events/details/milford-s-annual-family-fun-day-07-28-2018-3564
END:VEVENT

END:VCALENDAR
