BEGIN:VCALENDAR
VERSION:2.0
PRODID:-//ChamberMaster//Event Calendar 2.0//EN
METHOD:PUBLISH
X-PUBLISHED-TTL:P3D
REFRESH-INTERVAL:P3D
CALSCALE:GREGORIAN
BEGIN:VEVENT
DTSTART:20160902T233000Z
DTEND:20160903T030000Z
X-MICROSOFT-CDO-ALLDAYEVENT:FALSE
SUMMARY:Milford Rotary Casino Night
DESCRIPTION:The Milford Rotary Club is sponsoring a social event at the River Card Room  (185 Elm St\, in the Granite Town Plaza) on Friday night\, September 2nd\, starting at 7.30 PM. The event is open to all Rotarians\, spouses\, family members\, friends\, and random aquaintences of MRC members (must be 21 or older).\n\n \n\nNew Hampshire requires all card rooms to partner with a recognized 501c charitable organization\, and the Milford Rotary Club is lucky enough to be the partner organization from August 28th until September 6th. A certain percentage of all revenue generated by the RCR during this period will be given back to the MRC so we are organizing this event to show our appreciation to the Card Room (and to have some fun).\n\n \n\n If you've never been to the RCR\, they offer blackjack\, many different poker games\, craps\, and other games of chance in a clean non smoking environment. Many will say "I don't know the rules" or "I've never gambled". Dealers are helpful and explain the games and part of the fun is watching your friends play\, and just socializing. Many of the games are low stakes\, and you can have a lot of fun\, whatever your "gambling budget" is!
X-ALT-DESC;FMTTYPE=text/html:<span style="color:black\;"><span style="font-family:verdana\,sans-serif\;"><span style="font-size:10.0pt\;">The Milford Rotary Club is sponsoring a social event at the River Card Room&nbsp\; (185 Elm St\, in the Granite Town Plaza) on Friday night\, September 2<sup>nd</sup>\, starting at 7.30 PM. The event is open to all Rotarians\, spouses\, family members\, friends\, and random aquaintences of MRC members (must be 21 or older).</span></span></span><br />\n&nbsp\;<br />\n<span style="color:black\;"><span style="font-family:verdana\,sans-serif\;"><span style="font-size:10.0pt\;">New Hampshire requires all card rooms to partner with a recognized 501c charitable organization\, and the Milford Rotary Club is lucky enough to be the partner organization from August 28<sup>th</sup> until September 6<sup>th</sup>. A certain percentage of all revenue generated by the RCR during this period will be given back to the MRC so we are organizing this event to show our appreciation to the Card Room (and to have some fun).</span></span></span><br />\n&nbsp\;<br />\n<span style="color:black\;"><span style="font-family:verdana\,sans-serif\;"><span style="font-size:10.0pt\;">&nbsp\;If you&rsquo\;ve never been to the RCR\, they offer blackjack\, many different poker games\, craps\, and other games of chance in a clean non smoking environment. Many will say &ldquo\;I don&rsquo\;t know the rules&rdquo\; or &ldquo\;I&rsquo\;ve never gambled&rdquo\;. Dealers are helpful and explain the games and part of the fun is watching your friends play\, and just socializing. Many of the games are low stakes\, and you can have a lot of fun\, whatever your &quot\;gambling budget&quot\; is!&nbsp\;</span></span></span>
LOCATION:River Casino\, 185 Elm Street\, Milford NH 03055
UID:e.2735.589
SEQUENCE:3
DTSTAMP:20260421T003627Z
URL:http://members.gmsvcc.org/events/details/milford-rotary-casino-night-589
END:VEVENT

END:VCALENDAR
