BEGIN:VCALENDAR
VERSION:2.0
PRODID:-//ChamberMaster//Event Calendar 2.0//EN
METHOD:PUBLISH
X-PUBLISHED-TTL:P3D
REFRESH-INTERVAL:P3D
CALSCALE:GREGORIAN
BEGIN:VEVENT
DTSTART:20180410T130000Z
DTEND:20180410T140000Z
X-MICROSOFT-CDO-ALLDAYEVENT:FALSE
SUMMARY:Membership Committee
DESCRIPTION:The main focus of the Membership Committee is to help recruit new members into the Chamber\, and to develop and implement a strategic plan for Chamber development.\n\nAs a Chamber\, it is our mission to represent a range of industries\, companies\, and  businesses.  \n\nMembers of the membership committee are encouraged to attend as many events as possible\, and to bring prospects as guests to show community members first-hand the benefits of Chamber membership.
X-ALT-DESC;FMTTYPE=text/html:<p style="transition: background-color 0.25s ease-out\, color 0.25s ease-out\, opacity 0.25s ease-out\, border-color 0.25s ease-out\; border: 0px\; font-variant-numeric: normal\; font-variant-east-asian: normal\; font-stretch: normal\; font-size: 14px\; line-height: 20px\; font-family: &quot\;Open Sans&quot\;\, helvetica\, sans-serif\; vertical-align: baseline\; margin: 0px 0px 1.5em\; padding: 0px\; color: rgb(76\, 76\, 76)\; background-color: rgb(255\, 255\, 255)\;">The main focus of the Membership Committee is to help recruit new members into the Chamber\, and to develop and implement a strategic plan for Chamber development.</p>\n\n<p style="transition: background-color 0.25s ease-out\, color 0.25s ease-out\, opacity 0.25s ease-out\, border-color 0.25s ease-out\; border: 0px\; font-variant-numeric: normal\; font-variant-east-asian: normal\; font-stretch: normal\; font-size: 14px\; line-height: 20px\; font-family: &quot\;Open Sans&quot\;\, helvetica\, sans-serif\; vertical-align: baseline\; margin: 0px 0px 1.5em\; padding: 0px\; color: rgb(76\, 76\, 76)\; background-color: rgb(255\, 255\, 255)\;">As a Chamber\, it is our mission to represent a range of industries\, companies\, and&nbsp\; businesses.&nbsp\;&nbsp\;</p>\n\n<p style="transition: background-color 0.25s ease-out\, color 0.25s ease-out\, opacity 0.25s ease-out\, border-color 0.25s ease-out\; border: 0px\; font-variant-numeric: normal\; font-variant-east-asian: normal\; font-stretch: normal\; font-size: 14px\; line-height: 20px\; font-family: &quot\;Open Sans&quot\;\, helvetica\, sans-serif\; vertical-align: baseline\; margin: 0px 0px 1.5em\; padding: 0px\; color: rgb(76\, 76\, 76)\; background-color: rgb(255\, 255\, 255)\;">Members of the membership committee are encouraged to attend as many events as possible\, and to bring prospects as guests to show community members first-hand the benefits of Chamber membership.</p>\n
LOCATION:Chamber Office
UID:e.2735.3500
SEQUENCE:3
DTSTAMP:20260419T192625Z
URL:http://members.gmsvcc.org/events/details/membership-committee-3500
END:VEVENT

END:VCALENDAR
