BEGIN:VCALENDAR
VERSION:2.0
PRODID:-//ChamberMaster//Event Calendar 2.0//EN
METHOD:PUBLISH
X-PUBLISHED-TTL:P3D
REFRESH-INTERVAL:P3D
CALSCALE:GREGORIAN
BEGIN:VEVENT
DTSTART:20170518T123000Z
DTEND:20170518T143000Z
X-MICROSOFT-CDO-ALLDAYEVENT:FALSE
SUMMARY:Marketing Your Small Business: A Foundation for Growth
DESCRIPTION:Marketing your business can be a confusing and time consuming. Which platform is best? Email marketing? Print? Social media? How do I know which works the best for my business when my budget is limited?\n\n\n\nJoin us for our Build Your Business Workshop: Marketing Your Small Business: A Foundation for Growth\n\n\n\nIn this workshop\, you will learn from OTHER BUSINESS OWNERS - what works for them\, how much time they spend on marketing\, and most importantly\, what mistakes they learned from. \n\n\n\nOur facilitator is Joanne Randall\, Principle of Sprout for Business\, a full service marketing firm.Joanne graduated from the Whittemore School of Business and Economics at the University of New Hampshire and has spent her career working in management and business. Her background includes management\, sales\, marketing\, retail\, human resources\, and small business social media development. Joanne has over twenty-five years of experience in the marketing field\, and she currently manages operations and training\n\nfor Sprout. Joanne specializes in content marketing strategy consultation and oversight of Sprout's daily operations. Joanne has been a business and marketing guest lecturer at numerous New Hampshire universities. Joanne is a Master Certified Solutions Provider and an Authorized Local Expert with Constant Contact. Joanne frequently hosts marketing seminars and serves as a guest lecturer around New England.
X-ALT-DESC;FMTTYPE=text/html:Marketing your business can be a confusing and time consuming. Which platform is best? Email marketing? Print? Social media? How do I know which works the best for my business when my budget is limited?<br />\n<br />\nJoin us for our Build Your Business Workshop:&nbsp\;<strong><span style="font-family:verdana\,sans-serif\;"><span style="font-size:12.0pt\;">Marketing Your Small Business: A Foundation for Growth</span></span></strong><br />\n<br />\nIn this workshop\, you will learn from OTHER BUSINESS OWNERS - what works for them\, how much time they spend on marketing\, and most importantly\, what mistakes they learned from.&nbsp\;<br />\n<br />\nOur facilitator is Joanne Randall\, Principle of Sprout for Business\, a full service marketing firm.Joanne graduated from the Whittemore School of Business and Economics at the University of New Hampshire and has spent her career working in management and&nbsp\;business.&nbsp\;Her background includes management\, sales\, marketing\, retail\, human resources\, and&nbsp\;small business social media development. Joanne has over twenty-five years of&nbsp\;experience in the marketing field\, and she currently manages operations and training<br />\nfor Sprout.&nbsp\;Joanne specializes in content marketing strategy consultation and oversight of&nbsp\;Sprout&rsquo\;s daily operations. Joanne has been a business and marketing guest lecturer at&nbsp\;numerous New Hampshire universities. Joanne is a Master Certified Solutions Provider&nbsp\;and an Authorized Local Expert with Constant Contact. Joanne frequently hosts&nbsp\;marketing seminars and serves as a guest lecturer around New England.<br />\n<br />\n&nbsp\;
LOCATION:SVCC Office 69 Route 101A Amherst NH 03031
UID:e.2735.795
SEQUENCE:3
DTSTAMP:20260420T123948Z
URL:http://members.gmsvcc.org/events/details/marketing-your-small-business-a-foundation-for-growth-795
END:VEVENT

END:VCALENDAR
