BEGIN:VCALENDAR
VERSION:2.0
PRODID:-//ChamberMaster//Event Calendar 2.0//EN
METHOD:PUBLISH
X-PUBLISHED-TTL:P3D
REFRESH-INTERVAL:P3D
CALSCALE:GREGORIAN
BEGIN:VEVENT
DTSTART:20160602T160000Z
DTEND:20160602T170000Z
X-MICROSOFT-CDO-ALLDAYEVENT:FALSE
SUMMARY:Lunch N Leads - June 2 2016
DESCRIPTION:Lunch N Leads Networking Group
X-ALT-DESC;FMTTYPE=text/html:Lunch N Leads Networking Group&nbsp\;&nbsp\;&nbsp\;&nbsp\;
LOCATION:Souhegan Valley Chamber of Commerce 69 Route 101A\, Amherst NH
UID:e.2735.15
SEQUENCE:3
DTSTAMP:20260421T053106Z
URL:http://members.gmsvcc.org/events/details/lunch-n-leads-june-2-2016-06-02-2016-15
END:VEVENT

END:VCALENDAR
