BEGIN:VCALENDAR
VERSION:2.0
PRODID:-//ChamberMaster//Event Calendar 2.0//EN
METHOD:PUBLISH
X-PUBLISHED-TTL:P3D
REFRESH-INTERVAL:P3D
CALSCALE:GREGORIAN
BEGIN:VEVENT
DTSTART:20160707T160000Z
DTEND:20160707T170000Z
X-MICROSOFT-CDO-ALLDAYEVENT:FALSE
SUMMARY:Lunch N Leads - July 7 2016
DESCRIPTION:Lunch N Leads Networking
X-ALT-DESC;FMTTYPE=text/html:Lunch N Leads Networking&nbsp\;&nbsp\;&nbsp\;&nbsp\;
LOCATION:Souhegan Valley Chamber 69 Route 101A Amherst NH
UID:e.2735.284
SEQUENCE:3
DTSTAMP:20260421T035639Z
URL:http://members.gmsvcc.org/events/details/lunch-n-leads-july-7-2016-07-07-2016-284
END:VEVENT

END:VCALENDAR
