BEGIN:VCALENDAR
VERSION:2.0
PRODID:-//ChamberMaster//Event Calendar 2.0//EN
METHOD:PUBLISH
X-PUBLISHED-TTL:P3D
REFRESH-INTERVAL:P3D
CALSCALE:GREGORIAN
BEGIN:VEVENT
DTSTART:20171207T170000Z
DTEND:20171207T180000Z
X-MICROSOFT-CDO-ALLDAYEVENT:FALSE
SUMMARY:Lunch N Leads
DESCRIPTION:Join us for lunch and networking! New people each month\, and it continues to grow. Open to Chamber Members only. RSVP required by Wednesday so we can order lunch for everyone.
X-ALT-DESC;FMTTYPE=text/html:<span style="color: rgb(0\, 0\, 0)\; font-family: Arial\, Helvetica\, sans-serif\; font-size: 13.3333px\; line-height: normal\;">Join us for lunch and networking! New people each month\, and it continues to grow. Open to Chamber Members only. RSVP required by Wednesday so we can order lunch for everyone.</span>
LOCATION:Souhegan Valley Chamber 69 Route 101A Amherst NH 03031 (same building as Granite Bank)
UID:e.2735.461
SEQUENCE:3
DTSTAMP:20260420T012425Z
URL:http://members.gmsvcc.org/events/details/lunch-n-leads-12-07-2017-461
END:VEVENT

END:VCALENDAR
