BEGIN:VCALENDAR
VERSION:2.0
PRODID:-//ChamberMaster//Event Calendar 2.0//EN
METHOD:PUBLISH
X-PUBLISHED-TTL:P3D
REFRESH-INTERVAL:P3D
CALSCALE:GREGORIAN
BEGIN:VEVENT
DTSTART:20160818T213000Z
DTEND:20160818T233000Z
X-MICROSOFT-CDO-ALLDAYEVENT:FALSE
SUMMARY:Ledgewood Bay Hosts A Summer Night!
DESCRIPTION:Join us for a fun-filled evening! We'll be playing host to an antique car and motorcycle show along with delicious food and drinks and fun for the whole family! Activities will include games\, bouncy house\, photo booth\, cotton candy machine\, an Ice Cream Motorcycle Lady serving ice cream\, old time lemonade stand\, and of course\, musical entertainment!
X-ALT-DESC;FMTTYPE=text/html:Join us for a fun-filled evening!&nbsp\;We&rsquo\;ll be playing host to an antique car and motorcycle show along&nbsp\;with delicious food and drinks and fun for the whole family!&nbsp\;Activities will include games\, bouncy house\, photo booth\, cotton candy machine\, an&nbsp\;Ice Cream Motorcycle Lady serving ice cream\, old time lemonade stand\, and of course\,&nbsp\;musical entertainment!
LOCATION:Ledgewood Bay Senior Living\, 43 Ledgewood Drive\, Milford NH 03055
UID:e.2735.443
SEQUENCE:3
DTSTAMP:20260421T020953Z
URL:http://members.gmsvcc.org/events/details/ledgewood-bay-hosts-a-summer-night-08-18-2016-443
END:VEVENT

END:VCALENDAR
