BEGIN:VCALENDAR
VERSION:2.0
PRODID:-//ChamberMaster//Event Calendar 2.0//EN
METHOD:PUBLISH
X-PUBLISHED-TTL:P3D
REFRESH-INTERVAL:P3D
CALSCALE:GREGORIAN
BEGIN:VEVENT
DTSTART:20170328T160000Z
DTEND:20170328T173000Z
X-MICROSOFT-CDO-ALLDAYEVENT:FALSE
SUMMARY:Learn how Geothermal heating and cooling systems can save you money on your energy bill
DESCRIPTION:Learn Geothermal Fundamentals Equipment Selection and Application\n\n\n\nThe speakers are: Roger Skillings\,President\,Skillings & Sons and Dave Feyock\, Geothermal Tech Trainer\, Bosch Thermotechnology\n\n\n\nReserve your seat by emailing Chris Eaton by March 6\, 2017. \n\nCEATON@SKILLINGSANDSONS.COM
X-ALT-DESC;FMTTYPE=text/html:Learn Geothermal Fundamentals Equipment Selection and Application<br />\n<br />\nThe speakers are: Roger Skillings\,President\,Skillings &amp\; Sons and Dave Feyock\, Geothermal Tech Trainer\, Bosch Thermotechnology<br />\n<br />\nReserve your seat by emailing Chris Eaton by March 6\, 2017.&nbsp\;<br />\nCEATON@SKILLINGSANDSONS.COM
LOCATION:Skillings & Sons Inc. 9 Columbia Drive Amherst NH 03031
UID:e.2735.780
SEQUENCE:3
DTSTAMP:20260420T154029Z
URL:http://members.gmsvcc.org/events/details/learn-how-geothermal-heating-and-cooling-systems-can-save-you-money-on-your-energy-bill-780
END:VEVENT

END:VCALENDAR
