BEGIN:VCALENDAR
VERSION:2.0
PRODID:-//ChamberMaster//Event Calendar 2.0//EN
METHOD:PUBLISH
X-PUBLISHED-TTL:P3D
REFRESH-INTERVAL:P3D
CALSCALE:GREGORIAN
BEGIN:VEVENT
DTSTART:20180215T223000Z
DTEND:20180216T003000Z
X-MICROSOFT-CDO-ALLDAYEVENT:FALSE
SUMMARY:Information Night for Chamber TRIP TO CHINA
DESCRIPTION:Trip Information Presentation: Please join the Chamber and Citslinc International on Thurs\, Feb 15th from 5:30 to 7:30 PM at the Chamber office  for an informative  and  valuable pre-tour meeting  for anyone interested in taking the trip with us in October 2018! Citslinc International will be here that night to answer all of your questions and familiarize you with details you will need to know!  RSVP to Wendy at wendy.hunt@souhegan.net
X-ALT-DESC;FMTTYPE=text/html:<span style="color: rgb(51\, 51\, 51)\; font-family: arial\, sans-serif\; font-size: 13.3333px\; background-color: rgb(255\, 255\, 255)\;">Trip Information Presentation: Please join the Chamber and Citslinc&nbsp\;International on Thurs\, Feb 15th from 5:30 to 7:30 PM at the Chamber office&nbsp\; for an informative&nbsp\; and&nbsp\; valuable pre-tour meeting&nbsp\;&nbsp\;for anyone interested in taking the trip with us in October 2018! Citslinc International will be here that night to answer all of your questions and familiarize you with details you will need to know!&nbsp\; RSVP to Wendy at wendy.hunt@souhegan.net</span>
LOCATION:
UID:e.2735.3091
SEQUENCE:3
DTSTAMP:20260419T222702Z
URL:http://members.gmsvcc.org/events/details/information-night-for-chamber-trip-to-china-3091
END:VEVENT

END:VCALENDAR
