BEGIN:VCALENDAR
VERSION:2.0
PRODID:-//ChamberMaster//Event Calendar 2.0//EN
METHOD:PUBLISH
X-PUBLISHED-TTL:P3D
REFRESH-INTERVAL:P3D
CALSCALE:GREGORIAN
BEGIN:VEVENT
DTSTART:20160908T223000Z
DTEND:20160909T000000Z
X-MICROSOFT-CDO-ALLDAYEVENT:FALSE
SUMMARY:IMPACT: Regional Issues Series
DESCRIPTION:The economic climate of New Hampshire and our Souhegan Valley region is changing and creating challenges to continued growth. A number of factors are impacting these changes\, such as demographics\, our business climate and the rural/suburban nature of area and state. In this series\, we will examine five of the factors affecting or prohibiting the potential economic development of the Souhegan Valley and New Hampshire as a whole. \n\n\n\nFrom September to January\, the Souhegan Valley Chamber of Commerce and Nashua Regional Planning Commission will host a speakers series\, bringing a panel together to discuss these factors. Our purpose is to educate\, spark discussion and broaden understanding of the issues to our citizens.\n\n\n\nSeries Topics:\n\n\n	Regional Transportation - September 8 at the Milford Town Hall Auditorium. Would a regional transportation system make sense for the Souhegan Valley? Is it necessary and would the impact be positive? We will discuss the potential for extending bus service from Nashua\, how a potential rail project would impact our region\, and what would be the return on investment to our towns. Special Guest Speaker is NH Dept. of Transportation Commissioner Victoria Sheehan.\n	Workforce Development & Population Health - October 13 at Souhegan High School\, Amherst. Local businesses are facing a crisis in the lack of a plentiful\, skilled workforce. Although the unemployment rate is low\, businesses cannot find the workers they need to grow and meet demand. We will examine the reasons for this crisis and discuss how our education system\, demographics and health of our residents affect this issue.\n	Infrastructure - November 10 at Pine Hill Waldorf School\, Wilton. How does the physical (roads\,bridges\, water and sewer) affect our communities' potential for growth? What about the digital (broadband and cell phone coverage)? Maintaining infrastructure is one of the topmost challenges and expense facing our towns.\n	Energy - December 8\, Hollis Social Library\, Hollis. New Hampshire is one of the most expensive states for energy for bother residential\, commercial and industrial. The high cost of energy directly affects our manufacturing sector\, the number one provider of jobs in our state. We will look at how energy costs impact our potential for growth.\n	Tourism\, Arts & Culture - January 12 (snow date Jan. 19)\, Brookline Town Hall. The Creative Economy\, attracting visitors\, the NonProfit world and more.\n\nAll workshops are free and open to the public.
X-ALT-DESC;FMTTYPE=text/html:The economic climate of New Hampshire and our Souhegan Valley region is changing and creating challenges to continued growth. A number of factors are impacting these changes\, such as demographics\, our business climate and the rural/suburban nature of area and state. In this series\, we will examine five of the factors affecting or prohibiting the potential economic development of the Souhegan Valley and New Hampshire as a whole.&nbsp\;<br />\n<br />\nFrom September to January\, the Souhegan Valley Chamber of Commerce and Nashua Regional Planning Commission will host a speakers series\, bringing a panel together to discuss these factors. Our purpose is to educate\, spark discussion and broaden understanding of the issues to our citizens.<br />\n<br />\n<span style="font-size:14px\;"><span style="color:#FF0000\;"><strong>Series Topics:</strong></span></span>\n\n<ul>\n	<li><span style="color:#FF0000\;"><strong>Regional Transportation - September 8 at the Milford Town Hall Auditorium</strong></span>. Would a regional transportation system make sense for the Souhegan Valley? Is it necessary and would the impact be positive? We will discuss the potential for extending bus service from Nashua\, how a potential rail project would impact our region\, and what would be the return on investment to our towns. <span style="font-size:12px\;"><span style="font-family:arial\;"><span _mce_style="font-size: 11pt\;" style="color: rgb(0\, 0\, 0)\; line-height: normal\;">Special Guest Speaker is&nbsp\;<em><strong>NH</strong></em><em><strong>&nbsp\;Dept. of&nbsp\;</strong></em></span><span _mce_style="font-size: 14.6667px\;" style="color: rgb(0\, 0\, 0)\; line-height: normal\;"><em><strong>Transportation</strong></em></span><span _mce_style="font-size: 11pt\;" style="color: rgb(0\, 0\, 0)\; line-height: normal\;"><em><strong>&nbsp\;Commissioner&nbsp\;</strong></em><strong><em>Victoria Sheehan</em>.</strong></span></span></span></li>\n	<li><span style="color:#FF0000\;"><strong>Workforce Development &amp\; Population Health - October 13 at Souhegan High School\, Amherst</strong></span>. Local businesses are facing a crisis in the lack of a plentiful\, skilled workforce. Although the unemployment rate is low\, businesses cannot find the workers they need to grow and meet demand. We will examine the reasons for this crisis and discuss how our education system\, demographics and health of our residents affect this issue.</li>\n	<li><span style="color:#FF0000\;"><strong>Infrastructure - November 10 at Pine Hill Waldorf School\, Wilton.</strong></span> How does the physical (roads\,bridges\, water and sewer) affect our communities&#39\; potential for growth? What about the digital (broadband and cell phone coverage)? Maintaining infrastructure is one of the topmost challenges and expense&nbsp\;facing our towns.</li>\n	<li><span style="color:#FF0000\;"><strong>Energy - December 8\, Hollis Social Library</strong>\,</span> Hollis. New Hampshire is one of the most expensive states for energy for bother residential\, commercial and industrial. The high cost of energy directly affects our manufacturing sector\, the number one provider of jobs in our state. We will&nbsp\;look at how energy costs impact our potential for growth.</li>\n	<li><span style="color:#FF0000\;"><strong>Tourism\, Arts &amp\; Culture - January 12 (snow date Jan. 19)\, Brookline Town Hall.</strong></span> The Creative Economy\, attracting visitors\, the NonProfit&nbsp\;world and more.</li>\n</ul>\nAll workshops are free and open to the public.
LOCATION:Milford Town Hall Auditorium\, 1 Union Square\, Milford NH 03055 3rd Floor - take the elevator located on Middle Street.
UID:e.2735.438
SEQUENCE:3
DTSTAMP:20260421T021208Z
URL:http://members.gmsvcc.org/events/details/impact-regional-issues-series-09-08-2016-438
END:VEVENT

END:VCALENDAR
