BEGIN:VCALENDAR
VERSION:2.0
PRODID:-//ChamberMaster//Event Calendar 2.0//EN
METHOD:PUBLISH
X-PUBLISHED-TTL:P3D
REFRESH-INTERVAL:P3D
CALSCALE:GREGORIAN
BEGIN:VEVENT
DTSTART:20170421T213000Z
DTEND:20170422T003000Z
X-MICROSOFT-CDO-ALLDAYEVENT:FALSE
SUMMARY:Home Run for Heroes Featuring Big Papi\, David Ortiz! THIS EVENT IS NOW SOLD OUT.
DESCRIPTION:THIS EVENT IS NOW SOLD OUT.\n\nGoing to miss watching Big Papi slug out a home run next season? Want to wish him well in his retirement? You can - IN PERSON! And proceeds go to benefit our NH military families and veterans. All for less than you would spend to take the family for a game at Fenway! #meetpapihomerunforheroes\n\n\n\nHome Run for Heroes featuring Big Papi himself\, recently retired Red Sox designated hitter David Ortiz\, takes place on Friday\, April 21 at the Courtyard Marriot in Nashua. Proceeds will benefit the Chaplain's Emergency Relief Fund\, which provides New Hampshire military families with emergency needs primarily in the areas of rent\, mortgage\, utilities and medical bills. \n\n\n\nAttendees will have the opportunity to have their photo taken with David Ortiz\, as well as receive an autographed photo\, and ask David questions about his years with the Red Sox. A silent and live auction will take place\, with hors d'oeuvres and a cash bar. This is an event not to be missed!\n\n\n\nNote: David Ortiz WILL NOT be signing items at this event and attendees are asked to not bring items for signing.
X-ALT-DESC;FMTTYPE=text/html:<span style="font-size:14px\;"><span style="color:#FF0000\;"><strong>THIS EVENT IS NOW SOLD OUT.</strong></span></span><br />\nGoing to miss watching Big Papi&nbsp\;slug out a home run next season? Want to wish him well in his retirement? You can -<span style="color:#FF0000\;"><strong> IN PERSON</strong></span>! And proceeds go to benefit our NH military families and veterans. All for less than you would spend to take the family for a game at Fenway! #meetpapihomerunforheroes<br />\n<br />\nHome Run for Heroes featuring Big Papi himself\, recently retired Red Sox designated hitter David Ortiz\, takes place on Friday\, April 21 at the Courtyard Marriot in Nashua. Proceeds will benefit the Chaplain&#39\;s Emergency Relief Fund\,&nbsp\;<span style="font-family:calibri\,sans-serif\;"><span style="font-size:11.0pt\;">which provides New Hampshire military families with emergency needs primarily in the areas of rent\, mortgage\, utilities and medical bills.&nbsp\;<br />\n<br />\nAttendees will have the opportunity to have their photo taken with David Ortiz\, as well as receive an autographed photo\, and ask David questions about his years with the Red Sox. A silent and live auction will take place\, with hors d&#39\;oeuvres and a cash bar. This is an event not to be missed!<br />\n<br />\nNote: David Ortiz WILL NOT be signing items at this event and attendees are asked to not bring items for signing.</span></span><br />\n<br />\n&nbsp\;
LOCATION:Courtyard Marriott 2200 Southwood Drive Nashua NH 03063
UID:e.2735.615
SEQUENCE:3
DTSTAMP:20260420T140202Z
URL:http://members.gmsvcc.org/events/details/home-run-for-heroes-featuring-big-papi-david-ortiz-this-event-is-now-sold-out-615
END:VEVENT

END:VCALENDAR
